BEGIN:VCALENDAR
VERSION:2.0
PRODID:-//shift2bikes.org//NONSGML shiftcal v2.1//EN
METHOD:PUBLISH
X-WR-CALNAME:Shift Community Calendar
X-WR-CALDESC:Find fun bike events all year round.
X-WR-RELCALID:community@shift2bikes.org
BEGIN:VEVENT
UID:event-23079@shift2bikes.org
SUMMARY:January Inner-SE Mutual-Aid Ride
CONTACT:Amit Zinman
DESCRIPTION:Let's take food to some free fridges and pantries around 
 inner-SE on our bikes! Cargo bikes and bike trailers especially welcome!!
   \nThis ride will happen RAIN or SHINE! (may need to cancel if roads are 
 icy or snowy) \nThis is a no-drop inclusive ride\, so if you struggle 
 going up some hills carrying lots of food we'll wait for you!\n\nMeet us 
 at Abernethy Elementary School\, under the covered area.\n\nWe will visit 
 a variety of free fridges and pantries\, so feel free to bring packaged 
 nonperishable staples\, as well as prepared meals (with ingredients and 
 dates labeled\,) or even fresh veggies!  Grab-n-go items are helpful for 
 folks without kitchen access!  Personal hygiene 
 products/socks/handwarmers/etc. also appreciated.\n\nThe projected route 
 is: https://maps.app.goo.gl/BivjXMdsjXDxt15q6\n\nRide is organized by SE 
 Uplift and Bike Stuff PDX\nIf you'd like to help pick up some free food 
 for your trailer/cargo bike 2pm Jan 16\,  Email me 
 bikestuffpdx@gmail.com\nMeet 10am\, leave 
 10:30am\nhttps://shift2bikes.org/calendar/event-23079
LOCATION:Abernethy Elementary School\n2421 SE Orange Ave\, Portland\, OR 
 97214\, USA\nUnder the covered court\, enter from SE Elliott st
STATUS:CONFIRMED
DTSTART:20260117T180000Z
DTEND:20260117T210000Z
CREATED:20260104T043606Z
DTSTAMP:20260104T043606Z
SEQUENCE:8
URL:https://shift2bikes.org/calendar/event-23079
END:VEVENT
END:VCALENDAR
