BEGIN:VCALENDAR
VERSION:2.0
PRODID:-//shift2bikes.org//NONSGML shiftcal v2.1//EN
METHOD:PUBLISH
X-WR-CALNAME:Shift Community Calendar
X-WR-CALDESC:Find fun bike events all year round.
X-WR-RELCALID:community@shift2bikes.org
BEGIN:VEVENT
UID:event-18120@shift2bikes.org
SUMMARY:East Portland Cemeteries Tour
CONTACT:Urban Adventure League
DESCRIPTION:Rescheduled from Sun 10/22\nJust in time for Halloween! Come 
 explore at least four and possibly six different East Portland 
 Cemeteries\, most of which you probably didn't know existed! Small 
 "Pioneer" cemeteries dot the landscape\, all of these burial grounds are 
 within two miles (either west or east) of I-205.\n\nWe'll stop plenty of 
 times\, have a refreshment\, etc. break somewhere en route\, and after the
  ride we can get food and libations. No one left behind.\n\nThis ride is 
 more about the ride and checking out things. There won't be an immaculate 
 and exquisitely detailed tour at each cemetery\, I don’t have all that. 
 And I won't be wearing a cape. (If you want that\, I hear they do a good 
 job at Lone Fir.)\n\nRide not a loop\, but end will be transit 
 accessible.\nMeet at 11:30\, depart at noon.\nEnds at deep in 
 SE\nhttps://shift2bikes.org/calendar/event-18120
LOCATION:Parkrose/Sumner Transit Center\n9481 NE Sandy Blvd\, Portland\, 
 OR 97220\nMeet at entrance of bridge to MAX station
STATUS:CONFIRMED
DTSTART:20231029T183000Z
DTEND:20231029T223000Z
CREATED:20231017T180845Z
DTSTAMP:20231017T180845Z
SEQUENCE:3
URL:https://shift2bikes.org/calendar/event-18120
END:VEVENT
END:VCALENDAR
